Workbook

Sheet 小学组
A1: 2024上海市中小学公共安全主题演讲展示活动
A2: 小学组获奖名单
A3: （按获奖学生姓氏首字母排序）
A4: 序号 | B4: 辖区 | C4: 姓名 | D4: 所在学校 | E4: 作品名称 | F4: 指导老师 | G4: 获奖等第
A5: 1 | B5: 宝山 | C5: 李敏悠 | D5: 上海市宝山区行知外国语学校 | E5: 探索地铁安全——从模拟到实践 | F5: 周正妍 | G5: 一等奖
A6: 2 | B6: 黄浦 | C6: 李宜融 | D6: 上海市黄浦区曹光彪小学 | E6: 保护自己，勇敢说不 | F6: 孙小鹰 | G6: 一等奖
A7: 3 | B7: 青浦 | C7: 李梓菡 | D7: 上海市青浦区庆华小学 | E7: 消防安全 常驻心间 | F7: 张拥军 | G7: 一等奖
A8: 4 | B8: 黄浦 | C8: 励苗淼 | D8: 上海市黄浦区卢湾一中心小学 | E8: 公共安全，伴我成长 | F8: 施佳乐 | G8: 一等奖
A9: 5 | B9: 嘉定 | C9: 沈思承 | D9: 上海市嘉定区普通小学 | E9: 带你沉浸式打卡——百年普小安全体验馆 | F9: 徐楚 | G9: 一等奖
A10: 6 | B10: 杨浦 | C10: 索睿挽舟 | D10: 上海市杨浦区中原路小学分校 | E10: 网络安全 共享未来 | F10: / | G10: 一等奖
A11: 7 | B11: 杨浦 | C11: 王安祺 | D11: 上海市杨浦区许昌路第五小学 | E11: 小小头盔 大大安全 | F11: 王颖 | G11: 一等奖
A12: 8 | B12: 黄浦 | C12: 王芷娴 | D12: 上海师范大学附属黄浦梅溪小学 | E12: 交通安全——守护生命之灯 | F12: 李亚青 | G12: 一等奖
A13: 9 | B13: 闵行 | C13: 吴桐 | D13: 上海市闵行区田园第二外语实验小学 | E13: 校园消防安全 共筑安全防线 | F13: 彭佳玲 | G13: 一等奖
A14: 10 | B14: 虹口 | C14: 徐逸晨 | D14: 上海市虹口区第二中心小学 | E14: 小手牵大手，安全知识我来讲 | F14: 陈慧 | G14: 一等奖
A15: 11 | B15: 黄浦 | C15: 严宥悠 | D15: 上海市黄浦区中华路第三小学 | E15: 守护成长 有你有我 | F15: 浦祺卿 | G15: 一等奖
A16: 12 | B16: 浦东 | C16: 张奕驰 | D16: 上海市浦东新区建平临港小学 | E16: 网络安全大作战 | F16: 陈燕 | G16: 一等奖
... A44: 40 | B44: 奉贤 | C44: 朱祎萌 | D44: 上海市奉贤区教育学院附属实验小学 | E44: 我眼中的校园温度 | F44: 王雨晴、沈宏霖、王宇安 | G44: 二等奖
A45: 41 | B45: 长宁 | C45: 蔡翊 | D45: 上海市开元学校 | E45: 网络安全记心间 | F45: =VLOOKUP(C45,[1]小学组!$D:$I,6,0) -> 曹雯 | G45: 三等奖
A46: 42 | B46: 宝山 | C46: 陈知语 | D46: 上海宝山区世外学校 | E46: 防学生欺凌 | F46: =VLOOKUP(C46,[1]小学组!$D:$I,6,0) -> 胡丹丹 | G46: 三等奖
A47: 43 | B47: 奉贤 | C47: 程玲萱 | D47: 上海市奉贤区肖塘小学 | E47: 禁毒，从我做起 | F47: =VLOOKUP(C47,[1]小学组!$D:$I,6,0) -> 朱佳忻 | G47: 三等奖
A48: 44 | B48: 虹口 | C48: 翟心蕾 | D48: 上海市虹口区外国语第二小学 | E48: 小小烟头，大大隐患 | F48: =VLOOKUP(C48,[1]小学组!$D:$I,6,0) -> 孙萍 | G48: 三等奖
A49: 45 | B49: 黄浦 | C49: 杜佳玹 | D49: 上海市黄浦区复兴东路第三小学 | E49: 反诈防诈，你我“童”行” | F49: =VLOOKUP(C49,[1]小学组!$D:$I,6,0) -> 胡健坤 | G49: 三等奖
A50: 46 | B50: 杨浦 | C50: 费凡 | D50: 上海市杨浦区齐齐哈尔路第一小学 | E50: 从“小马宝莉卡”看网络安全 | F50: =VLOOKUP(C50,[1]小学组!$D:$I,6,0) -> / | G50: 三等奖
A51: 47 | B51: 宝山 | C51: 高迈 | D51: 上海民办至德实验学校 | E51: 我们的校园不容欺凌 | F51: =VLOOKUP(C51,[1]小学组!$D:$I,6,0) -> 王敏 | G51: 三等奖
A52: 48 | B52: 崇明 | C52: 龚一凡 | D52: 上海市崇明区裕安小学 | E52: 文明交通 你我“童”行 | F52: =VLOOKUP(C52,[1]小学组!$D:$I,6,0) -> 裴佳雯 | G52: 三等奖
A53: 49 | B53: 浦东 | C53: 顾歆诺 | D53: 上海市浦东新区海桐小学 | E53: “小细节”关系“大安全” | F53: =VLOOKUP(C53,[1]小学组!$D:$I,6,0) -> 龚静文 | G53: 三等奖
A54: 50 | B54: 奉贤 | C54: 花宇飞 | D54: 上海市奉贤区塘外小学 | E54: 安全记于心 幸福伴我行 | F54: =VLOOKUP(C54,[1]小学组!$D:$I,6,0) -> 褚勤俭 | G54: 三等奖
A55: 51 | B55: 嘉定 | C55: 贾可馨 | D55: 上海师范大学附属第五实验学校 | E55: 道路安全要遵循 | F55: =VLOOKUP(C55,[1]小学组!$D:$I,6,0) -> 邵银洁 | G55: 三等奖
A56: 52 | B56: 奉贤 | C56: 蒋佩芯 | D56: 上海外国语大学附属奉贤实验小学 | E56: 交通安全 与你“童”行 | F56: =VLOOKUP(C56,[1]小学组!$D:$I,6,0) -> 周鼎雁 | G56: 三等奖
... A61: 57 | B61: 虹口 | C61: 钮若轩 | D61: 上海市虹口区丰镇第一小学 | E61: 小手牵大手，安全知识我来讲 | F61: =VLOOKUP(C61,[1]小学组!$D:$I,6,0) -> 徐琳 | G61: 三等奖
A62: 58 | B62: 宝山 | C62: 潘梓璐、潘梓琳、潘梓琪 | D62: 上海市宝山区顾村中心校 | E62: 虚拟网络，真实防线——警惕网络诈骗，守护青春安全 | F62: 钱莉莉 | G62: 三等奖
A63: 59 | B63: 静安 | C63: 钱佳茹 | D63: 上海市静安区大宁路小学 | E63: 珍爱生命 预防溺水 | F63: 裴致远 | G63: 三等奖
A64: 60 | B64: 闵行 | C64: 邱梓芊 | D64: 上海市闵行区实验小学 | E64: 扫码历险记 | F64: / | G64: 三等奖
A65: 61 | B65: 虹口 | C65: 瞿佳旎 | D65: 上海市虹口区外国语第一小学 | E65: 防校园霸凌 | F65: =VLOOKUP(C65,[1]小学组!$D:$I,6,0) -> 唐佳琪 | G65: 三等奖
A66: 62 | B66: 崇明 | C66: 沈鑫茹 | D66: 上海市第一师范附属小学崇明区江帆小学 | E66: 校园消防安全小指南 | F66: =VLOOKUP(C66,[1]小学组!$D:$I,6,0) -> 张慧 | G66: 三等奖
A67: 63 | B67: 杨浦 | C67: 沈逸濛 | D67: 上海市杨浦区同济小学 | E67: 消防安全 | F67: =VLOOKUP(C67,[1]小学组!$D:$I,6,0) -> 薛佩玉 | G67: 三等奖
A68: 64 | B68: 普陀 | C68: 施佳翊 | D68: 上海市沙田学校 | E68: 牢记安全 从我做起 | F68: =VLOOKUP(C68,[1]小学组!$D:$I,6,0) -> 王雨沁 | G68: 三等奖
A69: 65 | B69: 杨浦 | C69: 孙鋆玥 | D69: 上海市杨浦区民办打一外国语小学 | E69: 防电信诈骗 保护自身安全 | F69: =VLOOKUP(C69,[1]小学组!$D:$I,6,0) -> 李伟艳 | G69: 三等奖
A70: 66 | B70: 浦东 | C70: 王悦越 | D70: 上海市浦东新区上南五村小学 | E70: 拒绝校园霸凌，从我做起 | F70: =VLOOKUP(C70,[1]小学组!$D:$I,6,0) -> 徐燕智 | G70: 三等奖
A71: 67 | B71: 嘉定 | C71: 王梓萌 | D71: 上海市嘉定区紫荆小学 | E71: 网络安全——我们的数字长城 | F71: =VLOOKUP(C71,[1]小学组!$D:$I,6,0) -> 黄晓艳 | G71: 三等奖
...
